BEGIN:VCALENDAR
VERSION:2.0
PRODID:-//Idipsi - ECPv4.9.2//NONSGML v1.0//EN
CALSCALE:GREGORIAN
METHOD:PUBLISH
X-WR-CALNAME:Idipsi
X-ORIGINAL-URL:https://www.idipsi.it
X-WR-CALDESC:Eventi per Idipsi
BEGIN:VEVENT
DTSTART;TZID=Europe/Rome:20190627T180000
DTEND;TZID=Europe/Rome:20190627T200000
DTSTAMP:20260421T092909
CREATED:20190531T074000Z
LAST-MODIFIED:20190701T202348Z
UID:7100-1561658400-1561665600@www.idipsi.it
SUMMARY:Presentazione libro "Posso essere felice" di Wolfgang Ullrich
DESCRIPTION: \n
URL:https://www.idipsi.it/evento/presentazione-libro-posso-essere-felice-di-wolfgang-ullrich/
LOCATION:Libreria Feltrinelli Via Farini Parma\, Via Farini\, Parma\, Italia
CATEGORIES:old
ATTACH;FMTTYPE=image/jpeg:https://www.idipsi.it/wp-content/uploads/2019/05/presentazione-libro-ullrich.jpg
END:VEVENT
END:VCALENDAR