BEGIN:VCALENDAR
VERSION:2.0
PRODID:-//Idipsi - ECPv4.9.2//NONSGML v1.0//EN
CALSCALE:GREGORIAN
METHOD:PUBLISH
X-WR-CALNAME:Idipsi
X-ORIGINAL-URL:https://www.idipsi.it
X-WR-CALDESC:Eventi per Idipsi
BEGIN:VEVENT
DTSTART;TZID=Europe/Rome:20190621T150000
DTEND;TZID=Europe/Rome:20190621T170000
DTSTAMP:20260421T104951
CREATED:20190521T103958Z
LAST-MODIFIED:20190701T203919Z
UID:6942-1561129200-1561136400@www.idipsi.it
SUMMARY:Open Day Siracusa
DESCRIPTION:Il 21 giugno 2019\, alle ore 15\, presso la sede di Siracusa dell’Istituto di Psicoterapia Sistemica Integrata\, sita in Viale Santa Panagia n.141/a\, si svolgerà il primo OPEN DAY relativo all’anno accademico 2020 della sede distaccata di Siracusa. \nSarà presentato il  MODELLO SISTEMICO INTEGRATO\, saranno illustrate le PREMESSE FORMATIVE e gli AMBITI DI INTERVENTO\, oltre ad alcune esperienze pratiche. \nConducono i didatti dell’Istituto di Psicoterapia Sistemica Integrata\, che cureranno le lezioni siracusane nel 2020:\nAntonio Restori. Direttore didattico Idipsi. Dirigente Psicologo-Psicoterapeuta. Responsabile del Centro di\nConsulenza e Terapia della Famiglia dell’Asl di Parma.\nMirco Moroni. Direttore scientifico Idipsi\, Psicologo Psicoterapeuta. Past-Coordinatore delle prestazioni Socio-\nSanitarie dell’Asl di Parma.\nDaniela Corso. Psicologa Psicoterapeuta\, Responsabile Didattico Idipsi-Siracusa.\nMichele Vanzini. Psicologo Psicoterapeuta\, Coordinatore scientifico Idipsi Parma.\nSonia Martelli . Psicologa Psicoterapeuta\,didatta Idipsi Parma. Direttrice del Master di Mediazione Familiare di\nParma.\nMaria Cristina Koch. Psicologa Psicoterapeuta e Counsellor\, Formatrice in diversi contesti clinici di Milano\nDaniel Gwyn. Psicologa Psicoterapeuta\, formatrice presso il Tavistock Clinic di Londra. \nI Professionisti interessati a partecipare all’Open Day di Siracusa del 21 giugno potranno annunciare la loro presenza inviando una email a info@idipsi.it \, oppure telefonando al 333.6077941. \nI Professionisti che fossero anche interessati a partecipare al Convegno Internazionale gratuito che si terrà il 20 e il 21 giugno nella medesima sede della Scuola di Siracusa potranno iscriversi anche a tale evento compilando il modulo on line presente a questo indirizzo: http://telefonoarcobaleno.org/evento.html \n
URL:https://www.idipsi.it/evento/open-day-siracusa/
LOCATION:auditorium Telefono Arcobaleno Siracusa\, Viale Santa Panagia 141/a\, Siracusa
CATEGORIES:old
ATTACH;FMTTYPE=image/jpeg:https://www.idipsi.it/wp-content/uploads/2019/05/openday.jpg
ORGANIZER;CN="Idipsi%20Siracusa":MAILTO:segreteria-sr@idipsi.it
END:VEVENT
END:VCALENDAR